
BEGIN:VCALENDAR
VERSION:2.0
PRODID:-//Bathurst Region Tourism - ECPv6.15.16//NONSGML v1.0//EN
CALSCALE:GREGORIAN
METHOD:PUBLISH
X-ORIGINAL-URL:https://www.bathurstregion.com.au
X-WR-CALDESC:Events for Bathurst Region Tourism
REFRESH-INTERVAL;VALUE=DURATION:PT1H
X-Robots-Tag:noindex
X-PUBLISHED-TTL:PT1H
BEGIN:VTIMEZONE
TZID:Australia/Sydney
BEGIN:STANDARD
TZOFFSETFROM:+1100
TZOFFSETTO:+1000
TZNAME:AEST
DTSTART:20250405T160000
END:STANDARD
BEGIN:DAYLIGHT
TZOFFSETFROM:+1000
TZOFFSETTO:+1100
TZNAME:AEDT
DTSTART:20251004T160000
END:DAYLIGHT
BEGIN:STANDARD
TZOFFSETFROM:+1100
TZOFFSETTO:+1000
TZNAME:AEST
DTSTART:20260404T160000
END:STANDARD
BEGIN:DAYLIGHT
TZOFFSETFROM:+1000
TZOFFSETTO:+1100
TZNAME:AEDT
DTSTART:20261003T160000
END:DAYLIGHT
BEGIN:STANDARD
TZOFFSETFROM:+1100
TZOFFSETTO:+1000
TZNAME:AEST
DTSTART:20270403T160000
END:STANDARD
BEGIN:DAYLIGHT
TZOFFSETFROM:+1000
TZOFFSETTO:+1100
TZNAME:AEDT
DTSTART:20271002T160000
END:DAYLIGHT
END:VTIMEZONE
BEGIN:VEVENT
DTSTART;TZID=Australia/Sydney:20260217T100000
DTEND;TZID=Australia/Sydney:20260503T170000
DTSTAMP:20260426T111903
CREATED:20260213T055854Z
LAST-MODIFIED:20260213T055854Z
UID:10004949-1771322400-1777827600@www.bathurstregion.com.au
SUMMARY:Maker Space
DESCRIPTION:Head to Bathurst Regional Art Gallery (BRAG) for our Maker’s Space activities of collage and colouring for our current exhibitions!  \nMaterials and stool provided\nFREE\, self-guided session\nNo experience required\nAll ages welcome\, children must be supervised \nBRAG is open:\n10am – 5pm Tuesday through Friday\n10am – 2pm Saturday & Sunday \nAbout the Exhibitions \nWe Are Studios: Acts of Inheritance\nActs of Inheritance presents new work from seventeen Disabled artists who explore identity as something lived\, layered and continually remade. We come to know ourselves through small\, everyday acts and performances – our own and those of others\, families\, cultures and communities as they leave their mark upon us.\nSome artists revisit family stories or inherited acts; others reflect on Disability\, mental health\, and shifting perceptions of self and how we perform it. Here\, inheritance is not fixed or predetermined\, but enacted through the choices we make\, the stories we tell and the ways we show up for one another.\nThrough these works\, Acts of Inheritance invites us to imagine identity as something performed in ongoing dialogue between who we have been\, who we are becoming and the worlds that shape us. \nWe Are Studios is a 100% Disability-led\, artist-run initiative empowering Disabled Western Sydney artists to thrive.\nArtists: Aili Brenton\, Virginia Bucknell\, Ria Cirera-Cruz\, Taylah Devlin\, Holly-lee Dickson\, Georgina Evans\, Nina Frankie\, Leanne Larwood\, Timothy W. Martin\, Grazia Napoletano\, Adrienne Proud\, Rebecca Sciroli\, Kiri Smith\, Jane Thatcher\, Miah Tito-Barratt\, Jordan Valageorgiou\, Eden Young. \nCurated by We Are Studios Collective.\nThe project is supported by the New South Wales Government through Create NSW and by the Australian Government through Creative Australia\, its principal arts investment and advisory body. \nLiz Bryan: Pattern Recognition\nLiz Bryan is a visual artist and designer working across drawing\, painting\, textiles\, sculpture and digital media. Her practice is shaped by an ongoing interest in esoteric knowledge\, mythologies and ritual\, and engages with themes of womanhood\, place\, and the hidden or overlooked histories of feminine experience. Moving fluidly between art and craft\, Liz’s work also reflects on the intersections of science\, mysticism and material knowledge.\nFor Pattern Recognition at BRAG\, Liz presents a body of work that explores the microcosmic world and the underlying geometry inherent in biological structures. Informed by sacred geometry and esoteric traditions outlined in Plato’s Timaeus\, the exhibition draws on the symbolism of the five Platonic solids—earth\, water\, air\, fire and ether—as metaphors for both physical and metaphysical systems. The relationship between microcosm and macrocosm\, particularly as seen in DNA structures and natural patterning\, underpins the work.\nThrough this work Liz explores the esoteric potential of shape\, line\, colour and form. Historic textile motifs\, including ogee forms and repeating half-brick patterns\, further inform the visual language of the exhibition. Through sculptures and paintings\, Pattern Recognition reveals pattern as a connective force—linking matter\, meaning and the unseen structures that shape our world. \nBathurst Regional Art Gallery is supported by the NSW Government through Create NSW. \nBanner image credits: (Left) Timothy W. Martin\, TORRENT\, 2025\, digital image. Photographed by Ebony Wightman. Courtesy We Are Studios; (Right) Image: Liz Bryan\, Transmissions 2\, 2024\, found wood and acrylic paint. Courtesy the artist. Photo: Maja Baska.
URL:https://www.bathurstregion.com.au/event/maker-space/
LOCATION:Bathurst Regional Art Gallery\, 70-78 Keppel Street\, Bathurst\, 2795
CATEGORIES:Art
ATTACH;FMTTYPE=image/jpeg:https://www.bathurstregion.com.au/wp-content/uploads/2026/02/BRAG-Jan-2026-Humanitix-Opening-Banner-4-scaled.jpg
ORGANIZER;CN="Bathurst Regional Art Gallery":MAILTO:brag@bathurst.nsw.gov.au
END:VEVENT
BEGIN:VEVENT
DTSTART;TZID=Australia/Sydney:20260217T100000
DTEND;TZID=Australia/Sydney:20260503T170000
DTSTAMP:20260426T111903
CREATED:20260213T055854Z
LAST-MODIFIED:20260213T055854Z
UID:10004950-1771322400-1777827600@www.bathurstregion.com.au
SUMMARY:BRAG I SPY
DESCRIPTION:Bring the youngsters to Bathurst Regional Art Gallery (BRAG)  for an I SPY detective trail throughout our current exhibitions! \nMaterials and stool provided\nFREE\, self-guided session\nNo experience required\nChildren must be supervised \nAbout the Exhibitions\nWe Are Studios: Acts of Inheritance\nActs of Inheritance presents new work from seventeen Disabled artists who explore identity as something lived\, layered and continually remade. We come to know ourselves through small\, everyday acts and performances – our own and those of others\, families\, cultures and communities as they leave their mark upon us.\nSome artists revisit family stories or inherited acts; others reflect on Disability\, mental health\, and shifting perceptions of self and how we perform it. Here\, inheritance is not fixed or predetermined\, but enacted through the choices we make\, the stories we tell and the ways we show up for one another.\nThrough these works\, Acts of Inheritance invites us to imagine identity as something performed in ongoing dialogue between who we have been\, who we are becoming and the worlds that shape us. \nWe Are Studios is a 100% Disability-led\, artist-run initiative empowering Disabled Western Sydney artists to thrive. \nArtists: Aili Brenton\, Virginia Bucknell\, Ria Cirera-Cruz\, Taylah Devlin\, Holly-lee Dickson\, Georgina Evans\, Nina Frankie\, Leanne Larwood\, Timothy W. Martin\, Grazia Napoletano\, Adrienne Proud\, Rebecca Sciroli\, Kiri Smith\, Jane Thatcher\, Miah Tito-Barratt\, Jordan Valageorgiou\, Eden Young. \nCurated by We Are Studios Collective. \nThe project is supported by the New South Wales Government through Create NSW and by the Australian Government through Creative Australia\, its principal arts investment and advisory body. \nLiz Bryan: Pattern Recognition\nLiz Bryan is a visual artist and designer working across drawing\, painting\, textiles\, sculpture and digital media. Her practice is shaped by an ongoing interest in esoteric knowledge\, mythologies and ritual\, and engages with themes of womanhood\, place\, and the hidden or overlooked histories of feminine experience. Moving fluidly between art and craft\, Liz’s work also reflects on the intersections of science\, mysticism and material knowledge.\nFor Pattern Recognition at BRAG\, Liz presents a body of work that explores the microcosmic world and the underlying geometry inherent in biological structures. Informed by sacred geometry and esoteric traditions outlined in Plato’s Timaeus\, the exhibition draws on the symbolism of the five Platonic solids—earth\, water\, air\, fire and ether—as metaphors for both physical and metaphysical systems. The relationship between microcosm and macrocosm\, particularly as seen in DNA structures and natural patterning\, underpins the work.\nThrough this work Liz explores the esoteric potential of shape\, line\, colour and form. Historic textile motifs\, including ogee forms and repeating half-brick patterns\, further inform the visual language of the exhibition. Through sculptures and paintings\, Pattern Recognition reveals pattern as a connective force—linking matter\, meaning and the unseen structures that shape our world. \nBathurst Regional Art Gallery is supported by the NSW Government through Create NSW. \nBanner image credits: (Left) Timothy W. Martin\, TORRENT\, 2025\, digital image. Photographed by Ebony Wightman. Courtesy We Are Studios; (Right) Image: Liz Bryan\, Transmissions 2\, 2024\, found wood and acrylic paint. Courtesy the artist. Photo: Maja Baska.
URL:https://www.bathurstregion.com.au/event/brag-i-spy/
LOCATION:Bathurst Regional Art Gallery\, 70-78 Keppel Street\, Bathurst\, 2795
CATEGORIES:Art
ATTACH;FMTTYPE=image/jpeg:https://www.bathurstregion.com.au/wp-content/uploads/2026/02/BRAG-Jan-2026-Humanitix-Opening-Banner-5-scaled.jpg
ORGANIZER;CN="Bathurst Regional Art Gallery":MAILTO:brag@bathurst.nsw.gov.au
END:VEVENT
BEGIN:VEVENT
DTSTART;TZID=Australia/Sydney:20260312T000000
DTEND;TZID=Australia/Sydney:20260510T235959
DTSTAMP:20260426T111903
CREATED:20241019T040955Z
LAST-MODIFIED:20260224T013933Z
UID:10003937-1773273600-1778457599@www.bathurstregion.com.au
SUMMARY:2026 Autumn Colours Heritage Festival
DESCRIPTION:A celebration of Bathurst’s heritage during its most spectacular season. Autumn is a magical time in the Bathurst region when residents and visitors alike enjoy the explosion of colour that accompanies the change of season\, the cooler temperatures that are perfect for exploring\, and the delicious local produce that the harvest brings. The signature Autumn Heritage Festival program of events celebrates the town’s rich history with a series of guided tours by local experts through some of the Bathurst region’s most significant historical sites\, along with events that preserve the people\, traditions\, and stories that have shaped Bathurst into the beautiful\, thriving\, modern regional centre it is today.  \n\n\n\nMore details coming soon. . .
URL:https://www.bathurstregion.com.au/event/autumn-colours-heritage-festival/
LOCATION:New South Wales
CATEGORIES:Classes, Lessons, Workshops and Talks,Community Event,Festivals and Celebrations,History and Heritage
ATTACH;FMTTYPE=image/jpeg:https://www.bathurstregion.com.au/wp-content/uploads/2025/02/Website-small.jpg
ORGANIZER;CN="Bathurst Visitor Information Centre":MAILTO:visitors@bathurst.nsw.gov.au
END:VEVENT
BEGIN:VEVENT
DTSTART;TZID=Australia/Sydney:20260501T080000
DTEND;TZID=Australia/Sydney:20260517T233000
DTSTAMP:20260426T111903
CREATED:20260414T225701Z
LAST-MODIFIED:20260414T225702Z
UID:10005038-1777622400-1779060600@www.bathurstregion.com.au
SUMMARY:Great Southern Nights
DESCRIPTION:The Central West is set to come alive for Great Southern Nights 2026 from 1 to 17 May\, with a stellar line-up of Australian artists performing across the region’s charming rural towns and vibrant hubs.\n\nThe opening weekend sees iconic pop purveyors Regurgitator head to Bathurst\, taking over the historic and atmospheric Keystone 1889. Bringing their unmistakable energy and a massive back catalogue of hits like “Polyester Girl\,” this performance is set to be a cornerstone of the region’s program. It is the perfect opportunity for visitors to explore Bathurst’s rich heritage\, boutique stays and thriving food scene while catching one of Australia’s most enduring alternative acts.\n\nThe musical journey continues across the Central West with a diverse array of performances:\n\nDubbo’s Live Fest: On Saturday 2 May\, the spectacular Lazy River Estate in Dubbo hosts a powerhouse all-ages event. The line-up features Australian music royalty including Paul Kelly\, Missy Higgins\, The Cruel Sea\, The Cat Empire\, Kasey Chambers\, and Jess Hitchcock.\n\nOrange: The opening weekend also features the much-adored Pete Murray\, bringing his “Better Days” vibes to the rolling vineyards and sophisticated charm of Orange.\n\nWhether you are heading to Bathurst for a dose of 90s nostalgia or making the trip to Dubbo for a riverside festival\, Great Southern Nights 2026 is your invitation to soak up the best of the Central West’s music\, eats\, and drinks.
URL:https://www.bathurstregion.com.au/event/great-southern-nights/
LOCATION:KeyStone 1889\, 99 Keppel St\, Bathurst\, 2795
CATEGORIES:Concert or Performance,Festivals and Celebrations
ATTACH;FMTTYPE=image/jpeg:https://www.bathurstregion.com.au/wp-content/uploads/2026/04/Regurgitator_Press-Shot-1-B.jpg
END:VEVENT
BEGIN:VEVENT
DTSTART;TZID=Australia/Sydney:20260501T090000
DTEND;TZID=Australia/Sydney:20260501T220000
DTSTAMP:20260426T111903
CREATED:20210225T011036Z
LAST-MODIFIED:20251125T015853Z
UID:10003867-1777626000-1777672800@www.bathurstregion.com.au
SUMMARY:Royal Bathurst Show
DESCRIPTION:The Royal Bathurst Show has long been regarded as the best west of Sydney and has boasted an average annual attendance in excess of 20\,000 people. The Show is organised and run by the Bathurst Agricultural\, Horticultural & Pastoral Association\, a charitable community organisation who for 160 years have been promoting agricultural activities and all aspects of rural and country life in the Bathurst area.
URL:https://www.bathurstregion.com.au/event/royal-bathurst-show/2026-05-01/
LOCATION:Bathurst Showground\, Lot 1 Kendall Avenue\, Bathurst\, NSW\, 2795\, Australia
CATEGORIES:Community Event,Exhibition and Shows,Festivals and Celebrations
ATTACH;FMTTYPE=image/jpeg:https://www.bathurstregion.com.au/wp-content/uploads/2023/06/159709406_3735568653226445_4663344674760362221_n.jpg
END:VEVENT
BEGIN:VEVENT
DTSTART;TZID=Australia/Sydney:20260501T100000
DTEND;TZID=Australia/Sydney:20260531T160000
DTSTAMP:20260426T111903
CREATED:20260421T053629Z
LAST-MODIFIED:20260421T053630Z
UID:10005030-1777629600-1780243200@www.bathurstregion.com.au
SUMMARY:Rankin Cottage Crafts May
DESCRIPTION:As the weather change\, Rankin Cottage Crafts  has fantaic locally made products on offer!\n From the  seasonal  harvest\, there are beautiful  jams and relishes\,  jumpers and scarfs to keep you warm\, gloves\, mittems and beanies for extremities. well handmade gifts for any occasions. There are a wonderful selection of toys and baby items also! \n\nRankin Cottage Crafts is open Tuesday to Saturday 10AM – 4PM. Stop by 117 Rankin Street and browse the selection of goods today.
URL:https://www.bathurstregion.com.au/event/rankin-cottage-crafts-may/
LOCATION:Rankin Cottage Crafts\, 117-119 Rankin St\, Bathurst\, 2795
ORGANIZER;CN="Rankin Cottage Crafts Inc":MAILTO:rankincottagecrafts@gmail.com
END:VEVENT
END:VCALENDAR