
BEGIN:VCALENDAR
VERSION:2.0
PRODID:-//Bathurst Region Tourism - ECPv6.15.16//NONSGML v1.0//EN
CALSCALE:GREGORIAN
METHOD:PUBLISH
X-ORIGINAL-URL:https://www.bathurstregion.com.au
X-WR-CALDESC:Events for Bathurst Region Tourism
REFRESH-INTERVAL;VALUE=DURATION:PT1H
X-Robots-Tag:noindex
X-PUBLISHED-TTL:PT1H
BEGIN:VTIMEZONE
TZID:Australia/Sydney
BEGIN:STANDARD
TZOFFSETFROM:+1100
TZOFFSETTO:+1000
TZNAME:AEST
DTSTART:20240406T160000
END:STANDARD
BEGIN:DAYLIGHT
TZOFFSETFROM:+1000
TZOFFSETTO:+1100
TZNAME:AEDT
DTSTART:20241005T160000
END:DAYLIGHT
BEGIN:STANDARD
TZOFFSETFROM:+1100
TZOFFSETTO:+1000
TZNAME:AEST
DTSTART:20250405T160000
END:STANDARD
BEGIN:DAYLIGHT
TZOFFSETFROM:+1000
TZOFFSETTO:+1100
TZNAME:AEDT
DTSTART:20251004T160000
END:DAYLIGHT
BEGIN:STANDARD
TZOFFSETFROM:+1100
TZOFFSETTO:+1000
TZNAME:AEST
DTSTART:20260404T160000
END:STANDARD
BEGIN:DAYLIGHT
TZOFFSETFROM:+1000
TZOFFSETTO:+1100
TZNAME:AEDT
DTSTART:20261003T160000
END:DAYLIGHT
BEGIN:STANDARD
TZOFFSETFROM:+1100
TZOFFSETTO:+1000
TZNAME:AEST
DTSTART:20270403T160000
END:STANDARD
BEGIN:DAYLIGHT
TZOFFSETFROM:+1000
TZOFFSETTO:+1100
TZNAME:AEDT
DTSTART:20271002T160000
END:DAYLIGHT
END:VTIMEZONE
BEGIN:VEVENT
DTSTART;TZID=Australia/Sydney:20251213T110000
DTEND;TZID=Australia/Sydney:20260322T150000
DTSTAMP:20260426T022642
CREATED:20251218T211454Z
LAST-MODIFIED:20251218T211458Z
UID:10004723-1765623600-1774191600@www.bathurstregion.com.au
SUMMARY:The Colours of Hill End Art Exhibition
DESCRIPTION:The Colours of Hill End Art Exhibition at Hill End Art Gallery.\nThe Hill End Art Gallery is pleased to announce its next exhibition\, featuring the works of Jeannie Holmes and Sharon Shelton. These two exceptional and diverse local artists will be showcasing their talent by highlighting the vibrant colours of Hill End.\nExhibition Details\n• Artists: Jeannie Holmes and Sharon Shelton\n• Theme: The Colours of Hill End\n• Opening: 11:00 AM\, Saturday 13 December 2025\n• Exhibition runs to 22nd March 2026\nJoin us for this exciting event celebrating local artistry and the unique palette of Hill End.\nThe Hill End Art Gallery is open 11.00am – 3.00pm weekends.\nSpecial Christmas opening times: Friday\, 19th December through to Monday\, 22nd December. 11am – 3pm\nClosed for Christmas/New Year break\, check Hill End Art Gallery facebook page for opening times.\n\nWhile you are here\, be sure to browse our selection of gifts. There are plenty of fantastic options available\, perfect for sharing with family and friends.
URL:https://www.bathurstregion.com.au/event/the-colours-of-hill-end-art-exhibition/
LOCATION:Hill End Art Gallery\, 5 Beyers Avenue\, Hill End\, 2850\, Australia
CATEGORIES:Art,History and Heritage
ATTACH;FMTTYPE=image/jpeg:https://www.bathurstregion.com.au/wp-content/uploads/2025/12/POSTERS.jpg
ORGANIZER;CN="Hill End Arts Council":MAILTO:hillendartscouncil@gmail.com
END:VEVENT
BEGIN:VEVENT
DTSTART;TZID=Australia/Sydney:20260217T100000
DTEND;TZID=Australia/Sydney:20260503T170000
DTSTAMP:20260426T022642
CREATED:20260213T055854Z
LAST-MODIFIED:20260213T055854Z
UID:10004949-1771322400-1777827600@www.bathurstregion.com.au
SUMMARY:Maker Space
DESCRIPTION:Head to Bathurst Regional Art Gallery (BRAG) for our Maker’s Space activities of collage and colouring for our current exhibitions!  \nMaterials and stool provided\nFREE\, self-guided session\nNo experience required\nAll ages welcome\, children must be supervised \nBRAG is open:\n10am – 5pm Tuesday through Friday\n10am – 2pm Saturday & Sunday \nAbout the Exhibitions \nWe Are Studios: Acts of Inheritance\nActs of Inheritance presents new work from seventeen Disabled artists who explore identity as something lived\, layered and continually remade. We come to know ourselves through small\, everyday acts and performances – our own and those of others\, families\, cultures and communities as they leave their mark upon us.\nSome artists revisit family stories or inherited acts; others reflect on Disability\, mental health\, and shifting perceptions of self and how we perform it. Here\, inheritance is not fixed or predetermined\, but enacted through the choices we make\, the stories we tell and the ways we show up for one another.\nThrough these works\, Acts of Inheritance invites us to imagine identity as something performed in ongoing dialogue between who we have been\, who we are becoming and the worlds that shape us. \nWe Are Studios is a 100% Disability-led\, artist-run initiative empowering Disabled Western Sydney artists to thrive.\nArtists: Aili Brenton\, Virginia Bucknell\, Ria Cirera-Cruz\, Taylah Devlin\, Holly-lee Dickson\, Georgina Evans\, Nina Frankie\, Leanne Larwood\, Timothy W. Martin\, Grazia Napoletano\, Adrienne Proud\, Rebecca Sciroli\, Kiri Smith\, Jane Thatcher\, Miah Tito-Barratt\, Jordan Valageorgiou\, Eden Young. \nCurated by We Are Studios Collective.\nThe project is supported by the New South Wales Government through Create NSW and by the Australian Government through Creative Australia\, its principal arts investment and advisory body. \nLiz Bryan: Pattern Recognition\nLiz Bryan is a visual artist and designer working across drawing\, painting\, textiles\, sculpture and digital media. Her practice is shaped by an ongoing interest in esoteric knowledge\, mythologies and ritual\, and engages with themes of womanhood\, place\, and the hidden or overlooked histories of feminine experience. Moving fluidly between art and craft\, Liz’s work also reflects on the intersections of science\, mysticism and material knowledge.\nFor Pattern Recognition at BRAG\, Liz presents a body of work that explores the microcosmic world and the underlying geometry inherent in biological structures. Informed by sacred geometry and esoteric traditions outlined in Plato’s Timaeus\, the exhibition draws on the symbolism of the five Platonic solids—earth\, water\, air\, fire and ether—as metaphors for both physical and metaphysical systems. The relationship between microcosm and macrocosm\, particularly as seen in DNA structures and natural patterning\, underpins the work.\nThrough this work Liz explores the esoteric potential of shape\, line\, colour and form. Historic textile motifs\, including ogee forms and repeating half-brick patterns\, further inform the visual language of the exhibition. Through sculptures and paintings\, Pattern Recognition reveals pattern as a connective force—linking matter\, meaning and the unseen structures that shape our world. \nBathurst Regional Art Gallery is supported by the NSW Government through Create NSW. \nBanner image credits: (Left) Timothy W. Martin\, TORRENT\, 2025\, digital image. Photographed by Ebony Wightman. Courtesy We Are Studios; (Right) Image: Liz Bryan\, Transmissions 2\, 2024\, found wood and acrylic paint. Courtesy the artist. Photo: Maja Baska.
URL:https://www.bathurstregion.com.au/event/maker-space/
LOCATION:Bathurst Regional Art Gallery\, 70-78 Keppel Street\, Bathurst\, 2795
CATEGORIES:Art
ATTACH;FMTTYPE=image/jpeg:https://www.bathurstregion.com.au/wp-content/uploads/2026/02/BRAG-Jan-2026-Humanitix-Opening-Banner-4-scaled.jpg
ORGANIZER;CN="Bathurst Regional Art Gallery":MAILTO:brag@bathurst.nsw.gov.au
END:VEVENT
BEGIN:VEVENT
DTSTART;TZID=Australia/Sydney:20260217T100000
DTEND;TZID=Australia/Sydney:20260503T170000
DTSTAMP:20260426T022642
CREATED:20260213T055854Z
LAST-MODIFIED:20260213T055854Z
UID:10004950-1771322400-1777827600@www.bathurstregion.com.au
SUMMARY:BRAG I SPY
DESCRIPTION:Bring the youngsters to Bathurst Regional Art Gallery (BRAG)  for an I SPY detective trail throughout our current exhibitions! \nMaterials and stool provided\nFREE\, self-guided session\nNo experience required\nChildren must be supervised \nAbout the Exhibitions\nWe Are Studios: Acts of Inheritance\nActs of Inheritance presents new work from seventeen Disabled artists who explore identity as something lived\, layered and continually remade. We come to know ourselves through small\, everyday acts and performances – our own and those of others\, families\, cultures and communities as they leave their mark upon us.\nSome artists revisit family stories or inherited acts; others reflect on Disability\, mental health\, and shifting perceptions of self and how we perform it. Here\, inheritance is not fixed or predetermined\, but enacted through the choices we make\, the stories we tell and the ways we show up for one another.\nThrough these works\, Acts of Inheritance invites us to imagine identity as something performed in ongoing dialogue between who we have been\, who we are becoming and the worlds that shape us. \nWe Are Studios is a 100% Disability-led\, artist-run initiative empowering Disabled Western Sydney artists to thrive. \nArtists: Aili Brenton\, Virginia Bucknell\, Ria Cirera-Cruz\, Taylah Devlin\, Holly-lee Dickson\, Georgina Evans\, Nina Frankie\, Leanne Larwood\, Timothy W. Martin\, Grazia Napoletano\, Adrienne Proud\, Rebecca Sciroli\, Kiri Smith\, Jane Thatcher\, Miah Tito-Barratt\, Jordan Valageorgiou\, Eden Young. \nCurated by We Are Studios Collective. \nThe project is supported by the New South Wales Government through Create NSW and by the Australian Government through Creative Australia\, its principal arts investment and advisory body. \nLiz Bryan: Pattern Recognition\nLiz Bryan is a visual artist and designer working across drawing\, painting\, textiles\, sculpture and digital media. Her practice is shaped by an ongoing interest in esoteric knowledge\, mythologies and ritual\, and engages with themes of womanhood\, place\, and the hidden or overlooked histories of feminine experience. Moving fluidly between art and craft\, Liz’s work also reflects on the intersections of science\, mysticism and material knowledge.\nFor Pattern Recognition at BRAG\, Liz presents a body of work that explores the microcosmic world and the underlying geometry inherent in biological structures. Informed by sacred geometry and esoteric traditions outlined in Plato’s Timaeus\, the exhibition draws on the symbolism of the five Platonic solids—earth\, water\, air\, fire and ether—as metaphors for both physical and metaphysical systems. The relationship between microcosm and macrocosm\, particularly as seen in DNA structures and natural patterning\, underpins the work.\nThrough this work Liz explores the esoteric potential of shape\, line\, colour and form. Historic textile motifs\, including ogee forms and repeating half-brick patterns\, further inform the visual language of the exhibition. Through sculptures and paintings\, Pattern Recognition reveals pattern as a connective force—linking matter\, meaning and the unseen structures that shape our world. \nBathurst Regional Art Gallery is supported by the NSW Government through Create NSW. \nBanner image credits: (Left) Timothy W. Martin\, TORRENT\, 2025\, digital image. Photographed by Ebony Wightman. Courtesy We Are Studios; (Right) Image: Liz Bryan\, Transmissions 2\, 2024\, found wood and acrylic paint. Courtesy the artist. Photo: Maja Baska.
URL:https://www.bathurstregion.com.au/event/brag-i-spy/
LOCATION:Bathurst Regional Art Gallery\, 70-78 Keppel Street\, Bathurst\, 2795
CATEGORIES:Art
ATTACH;FMTTYPE=image/jpeg:https://www.bathurstregion.com.au/wp-content/uploads/2026/02/BRAG-Jan-2026-Humanitix-Opening-Banner-5-scaled.jpg
ORGANIZER;CN="Bathurst Regional Art Gallery":MAILTO:brag@bathurst.nsw.gov.au
END:VEVENT
BEGIN:VEVENT
DTSTART;TZID=Australia/Sydney:20260228T000000
DTEND;TZID=Australia/Sydney:20260228T235959
DTSTAMP:20260426T022642
CREATED:20260106T211620Z
LAST-MODIFIED:20260203T014649Z
UID:10004270-1772236800-1772323199@www.bathurstregion.com.au
SUMMARY:Dino Day - Postponed
DESCRIPTION:A ROARSOME day packed with dinosaur fun.   \nDo you miss the roaring dinosaurs form the Dino-store? They will be roaring back to life for one day only. The day will also feature a special screening of Why Dinosaurs\, dinosaur activities \, a dinosaur presentation and a whole lot of Dino-mite fun.   \nAdult/Concession/Child tickets 1/2 price 28 February only. \nNo other discounts apply.
URL:https://www.bathurstregion.com.au/event/dino-day/
LOCATION:Australian Fossil and Mineral Museum\, 224 Howick Street\, Bathurst\, NSW\, 2795
CATEGORIES:Festivals and Celebrations
ATTACH;FMTTYPE=image/jpeg:https://www.bathurstregion.com.au/wp-content/uploads/2026/01/AFMM-Dino-day-square-scaled.jpg
END:VEVENT
BEGIN:VEVENT
DTSTART;TZID=Australia/Sydney:20260228T090000
DTEND;TZID=Australia/Sydney:20260228T140000
DTSTAMP:20260426T022642
CREATED:20240122T013943Z
LAST-MODIFIED:20260201T225644Z
UID:10003704-1772269200-1772287200@www.bathurstregion.com.au
SUMMARY:Eglinton Country Fair
DESCRIPTION:The Eglinton Country Fair is a fun\, family friendly way to farewell Summer! Cubis Park is transformed into a buzzing hive of activity! \nJoin us for a fantastic day of family fun while supporting Eglinton Public School. \nFundraising Raffle featuring over $5\,000 worth of prizesLucky Door PrizesInflatables and water playReptile displays and petting zooGames and activities for kidsBBQ\, cake stall and food vansA great variety of market stalls \nRaffle tickets are available online via RaffleLink. \n\nEvery dollar raised goes directly towards supporting Eglinton Public School and its students\, helping our school community thrive. \n\n\nThis is a community day you won’t want to miss!
URL:https://www.bathurstregion.com.au/event/eglinton-country-fair-2/
LOCATION:Cubis Park\, 37 Alexander Street\, Eglinton\, 2795
CATEGORIES:Community Event,Markets
ATTACH;FMTTYPE=image/jpeg:https://www.bathurstregion.com.au/wp-content/uploads/2024/01/ECF-Photo.jpg
ORGANIZER;CN="Eglinton Country Fair Committee":MAILTO:eglintoncountryfair@gmail.com
END:VEVENT
BEGIN:VEVENT
DTSTART;TZID=Australia/Sydney:20260228T100000
DTEND;TZID=Australia/Sydney:20260228T140000
DTSTAMP:20260426T022642
CREATED:20260205T012225Z
LAST-MODIFIED:20260227T010043Z
UID:10004923-1772272800-1772287200@www.bathurstregion.com.au
SUMMARY:Learn how to make and use a gelli plate
DESCRIPTION:During this session you will be learning how to create prints using: \nBotanical PrintingStencils and MasksFound items \nThere will be ample time for experimenting. \nYou will also receive a recipe to make your own gelli plate at home \nWhat to Bring:LunchHand wipesGelli plate and brayer if you have one (small plates and brayers available to borrow) \nCost: 35 (members)$40 (non-members) \nPay by direct deposit to: \nBathurst & District ArtisansBSB 659-000A/c 500163946 \nRef: (name)print2802 \nThere will be a $20 materials charge payable on the day
URL:https://www.bathurstregion.com.au/event/learn-how-to-make-and-use-a-gelli-plate/
LOCATION:Perthville Community Hall\, 20 Rockley Street\, Perthville\, NSW
CATEGORIES:Classes, Lessons, Workshops and Talks
ATTACH;FMTTYPE=image/jpeg:https://www.bathurstregion.com.au/wp-content/uploads/2026/02/20240124_125937-scaled.jpg
ORGANIZER;CN="Bathurst and District Artisans":MAILTO:presbda@gmail.com
END:VEVENT
BEGIN:VEVENT
DTSTART;TZID=Australia/Sydney:20260228T110000
DTEND;TZID=Australia/Sydney:20260228T120000
DTSTAMP:20260426T022642
CREATED:20260128T234244Z
LAST-MODIFIED:20260128T234244Z
UID:10004872-1772276400-1772280000@www.bathurstregion.com.au
SUMMARY:Exhibition Tours // Acts of Inheritance & Pattern Recognition
DESCRIPTION:Join Bathurst Regional Art Gallery for a FREE tour of our current exhibitions every Saturday at 11am! \nAbout the Exhibitions\nWe Are Studios: Acts of Inheritance\nActs of Inheritance presents new work from seventeen Disabled artists who explore identity as something lived\, layered and continually remade. We come to know ourselves through small\, everyday acts and performances – our own and those of others\, families\, cultures and communities as they leave their mark upon us. \nSome artists revisit family stories or inherited acts; others reflect on Disability\, mental health\, and shifting perceptions of self and how we perform it. Here\, inheritance is not fixed or predetermined\, but enacted through the choices we make\, the stories we tell and the ways we show up for one another. \nThrough these works\, Acts of Inheritance invites us to imagine identity as something performed in ongoing dialogue between who we have been\, who we are becoming and the worlds that shape us. \nWe Are Studios is a 100% Disability-led\, artist-run initiative empowering Disabled Western Sydney artists to thrive. \nArtists: Aili Brenton\, Virginia Bucknell\, Ria Cirera-Cruz\, Taylah Devlin\, Holly-lee Dickson\, Georgina Evans\, Nina Frankie\, Leanne Larwood\, Timothy W. Martin\, Grazia Napoletano\, Adrienne Proud\, Rebecca Sciroli\, Kiri Smith\, Jane Thatcher\, Miah Tito-Barratt\, Jordan Valageorgiou\, Eden Young. \nCurated by We Are Studios Collective. \nThe project is supported by the New South Wales Government through Create NSW and by the Australian Government through Creative Australia\, its principal arts investment and advisory body. \nLiz Bryan: Pattern Recognition\nLiz Bryan is a visual artist and designer working across drawing\, painting\, textiles\, sculpture and digital media. Her practice is shaped by an ongoing interest in esoteric knowledge\, mythologies and ritual\, and engages with themes of womanhood\, place\, and the hidden or overlooked histories of feminine experience. Moving fluidly between art and craft\, Liz’s work also reflects on the intersections of science\, mysticism and material knowledge. \nFor Pattern Recognition at BRAG\, Liz presents a body of work that explores the microcosmic world and the underlying geometry inherent in biological structures. Informed by sacred geometry and esoteric traditions outlined in Plato’s Timaeus\, the exhibition draws on the symbolism of the five Platonic solids—earth\, water\, air\, fire and ether—as metaphors for both physical and metaphysical systems. The relationship between microcosm and macrocosm\, particularly as seen in DNA structures and natural patterning\, underpins the work. \nThrough this work Liz explores the esoteric potential of shape\, line\, colour and form. Historic textile motifs\, including ogee forms and repeating half-brick patterns\, further inform the visual language of the exhibition. Through sculptures and paintings\, Pattern Recognition reveals pattern as a connective force—linking matter\, meaning and the unseen structures that shape our world. \nBathurst Regional Art Gallery is supported by the NSW Government through Create NSW.
URL:https://www.bathurstregion.com.au/event/exhibition-tours-acts-of-inheritance-pattern-recognition/2026-02-28/
LOCATION:Bathurst Regional Art Gallery\, 70-78 Keppel Street\, Bathurst\, 2795
CATEGORIES:Classes, Lessons, Workshops and Talks
ATTACH;FMTTYPE=image/jpeg:https://www.bathurstregion.com.au/wp-content/uploads/2026/01/BRAG-Jan-2026-Humanitix-Opening-Banner-1-scaled.jpg
ORGANIZER;CN="Bathurst Regional Art Gallery":MAILTO:brag@bathurst.nsw.gov.au
END:VEVENT
BEGIN:VEVENT
DTSTART;TZID=Australia/Sydney:20260228T120000
DTEND;TZID=Australia/Sydney:20260301T141000
DTSTAMP:20260426T022642
CREATED:20260211T020328Z
LAST-MODIFIED:20260211T020328Z
UID:10004941-1772280000-1772374200@www.bathurstregion.com.au
SUMMARY:Scots All Saints College proudly presents Charlie and the Chocolate Factory
DESCRIPTION:The CAT Award-winning Scots All Saints College Creative Arts department proudly presents Charlie and the Chocolate Factory for four shows only at the BMEC Theatre. \nStep into the magic and wonder of Roald Dahl’s classic tale\, as young Charlie Bucket discovers Willy Wonka’s extraordinary factory filled with chocolate waterfalls\, quirky inventions and unforgettable characters. \nFeaturing talented singers\, actors and musicians\, alongside spectacular staging and enchanting set design\, this production promises a delightful experience for audiences of all ages. \nChildren are warmly welcome — book your tickets now to secure your seats before they’re gone!
URL:https://www.bathurstregion.com.au/event/scots-all-saints-college-proudly-presents-charlie-and-the-chocolate-factory/2026-02-28/1/
LOCATION:Bathurst Memorial Entertainment Centre\, 105 William Street\, Bathurst\, New South Wales\, 2795\, Australia
CATEGORIES:Concert or Performance
ATTACH;FMTTYPE=image/jpeg:https://www.bathurstregion.com.au/wp-content/uploads/2026/02/BMEC-CATCH-landscape-background-image.jpg
END:VEVENT
BEGIN:VEVENT
DTSTART;TZID=Australia/Sydney:20260228T150000
DTEND;TZID=Australia/Sydney:20260228T180000
DTSTAMP:20260426T022642
CREATED:20251116T232415Z
LAST-MODIFIED:20251116T233508Z
UID:10004656-1772290800-1772301600@www.bathurstregion.com.au
SUMMARY:Beers & Beats @ The Rockley Pub
DESCRIPTION:On the last Saturday of the month\, The Rockley Pub has local musicians showing off their talents between 3pm – 6pm in beer garden\, with each month seeing a different artist take the stage. For January and February\, the artist is Malia Strirling.  \n\n\n\nGuests can buy ice cold\, local and imported beers directly from the beer garden and order delicious food from the restaurant.  \n\n\n\nKeep an eye out on their Instagram for updates and offers.
URL:https://www.bathurstregion.com.au/event/beers-beats-the-rockley-pub-4/2026-02-28/
LOCATION:The Rockley Pub\, 2 Budden Street\, Rockley\, NSW\, 2795
ATTACH;FMTTYPE=image/jpeg:https://www.bathurstregion.com.au/wp-content/uploads/2025/11/Untitled-1.jpg
ORGANIZER;CN="The Rockley Pub":MAILTO:info@therockleypub.com.au
END:VEVENT
BEGIN:VEVENT
DTSTART;TZID=Australia/Sydney:20260228T170000
DTEND;TZID=Australia/Sydney:20260228T190000
DTSTAMP:20260426T022642
CREATED:20260219T204959Z
LAST-MODIFIED:20260219T205000Z
UID:10004955-1772298000-1772305200@www.bathurstregion.com.au
SUMMARY:Monster Truck Mayhem Thrills & Stunt Show Bathurst Showgrounds
DESCRIPTION:Monster Truck Mayhem Thrills & Stunt Show Bathurst Showgrounds\nWelcome to the most thrilling event of the year at The Bathurst Showground! Get ready for a heart-pounding experience on February 28\, 2026 at 5:00 PM (Australia/Sydney Time).\nWitness jaw-dropping stunts\, high-flying action\, and monster truck mayhem like never before. It’s an adrenaline-packed show that will leave you on the edge of your seat!\nDon’t miss out on this epic night of excitement and entertainment. Grab your friends and family for an unforgettable experience at the Monster Truck Mayhem Thrills & Stunt Show!\n\nGrandstand Seating (Limited Seats – Not Numbered)\nAdult $65\nKids 2-14 $50\n\nGeneral Admission (take along a fold up chair or blanket to sit on)\nAdult $55\nKids 2-14yrs $35\nFamily (2 adults and 2 kids 2-14yrs) $170
URL:https://www.bathurstregion.com.au/event/monster-truck-mayhem-thrills-stunt-show-bathurst-showgrounds/
LOCATION:New South Wales
CATEGORIES:Sporting Events
ATTACH;FMTTYPE=image/jpeg:https://www.bathurstregion.com.au/wp-content/uploads/2026/02/Copy-of-Copy-of-BAthurst-flier-Your-Story.jpg
END:VEVENT
BEGIN:VEVENT
DTSTART;TZID=Australia/Sydney:20260228T180000
DTEND;TZID=Australia/Sydney:20260228T230000
DTSTAMP:20260426T022642
CREATED:20260128T234245Z
LAST-MODIFIED:20260128T234245Z
UID:10004855-1772301600-1772319600@www.bathurstregion.com.au
SUMMARY:Eagles - Up Close
DESCRIPTION:Few modern acts have a legacy as deep as The Eagles. Over 50 years since their debut\, their genre-spanning hits — from country roots to classic rock — continue to resonate across generations.\n​\nThe Album Show presents “Eagles – Up Close and Intimate”\, a contemporary\, semi-acoustic tribute featuring a five-piece band. With rich harmonies and stripped-back arrangements\, the show celebrates the band’s timeless songwriting and enduring impact\, including both their greatest hits and select solo works.
URL:https://www.bathurstregion.com.au/event/eagles-up-close/
LOCATION:KeyStone 1889\, 99 Keppel St\, Bathurst\, 2795
CATEGORIES:Concert or Performance,Food and Wine,History and Heritage
ATTACH;FMTTYPE=image/jpeg:https://www.bathurstregion.com.au/wp-content/uploads/2026/01/Eagles-Keystone-Square.jpg
ORGANIZER;CN="KeyStone 1889":MAILTO:trish@keystone1889.com
END:VEVENT
BEGIN:VEVENT
DTSTART;TZID=Australia/Sydney:20260228T180000
DTEND;TZID=Australia/Sydney:20260228T233000
DTSTAMP:20260426T022642
CREATED:20260114T205958Z
LAST-MODIFIED:20260114T235334Z
UID:10003662-1772301600-1772321400@www.bathurstregion.com.au
SUMMARY:A Night at Bathurst Goldfields – A Five-Course Dinner & Live Entertainment Experience
DESCRIPTION:Join us for a one-night-only evening at Bathurst Goldfields Resort\, complete with a beautifully crafted five-course dinner and live music\, all set against the sweeping backdrop of Mount Panorama.This special public event is our way of opening the doors and welcoming locals and visitors alike to share a night of good food\, great company\, amazing entertainment and the magic of the Goldfields.Whether you’re planning a date night\, rounding up a few friends\, or just keen for a night out nearby doing something different\, you’re bound to have a good ol’ time. \nEvent DetailsDate: Saturday 28 February 2026Time: Event begins 6:00pmEntertainment from: 6:30pm – 11:30pmLocation: Bathurst Goldfields Resort – Main Function Centre\, 428 Conrod Straight\, Mount Panorama  \nWhat to ExpectYour night will begin with drinks in our beautiful terraced alfresco gardens before you settle into a thoughtfully crafted five-course menu\, featuring seasonal ingredients and elevated flavours created especially for this event by our Head Chef\, Charles Reddy.As dinner unfolds\, the music comes to life. Ease into the evening with the soulful sounds of Henry Saxby\, Piano Man\, before the band takes over and gets the party started! \nTickets$119 per person.Tickets include the five-course dinner and all entertainment. Tickets are limited and must be purchased prior to the event. You will be able to specify groups to be seated together by name at the time of booking. \nOur on-site bar will be open throughout the evening\, with drinks available for purchase on consumption.We hope you’ll join us for an amazing evening at the Goldfields.
URL:https://www.bathurstregion.com.au/event/a-night-at-bathurst-goldfields-a-five-course-dinner-live-entertainment-experience/
LOCATION:Bathurst Goldfields – Event & Function Centre\, 428 Conrod Straight\, Bathurst\, NSW\, 2795\, Australia
CATEGORIES:Food and Wine
ATTACH;FMTTYPE=image/jpeg:https://www.bathurstregion.com.au/wp-content/uploads/2026/01/Alfresco-7-scaled.jpg
END:VEVENT
BEGIN:VEVENT
DTSTART;TZID=Australia/Sydney:20260228T183000
DTEND;TZID=Australia/Sydney:20260228T204000
DTSTAMP:20260426T022642
CREATED:20260211T020328Z
LAST-MODIFIED:20260211T020328Z
UID:10004942-1772303400-1772311200@www.bathurstregion.com.au
SUMMARY:Scots All Saints College proudly presents Charlie and the Chocolate Factory
DESCRIPTION:The CAT Award-winning Scots All Saints College Creative Arts department proudly presents Charlie and the Chocolate Factory for four shows only at the BMEC Theatre. \nStep into the magic and wonder of Roald Dahl’s classic tale\, as young Charlie Bucket discovers Willy Wonka’s extraordinary factory filled with chocolate waterfalls\, quirky inventions and unforgettable characters. \nFeaturing talented singers\, actors and musicians\, alongside spectacular staging and enchanting set design\, this production promises a delightful experience for audiences of all ages. \nChildren are warmly welcome — book your tickets now to secure your seats before they’re gone!
URL:https://www.bathurstregion.com.au/event/scots-all-saints-college-proudly-presents-charlie-and-the-chocolate-factory/2026-02-28/2/
LOCATION:Bathurst Memorial Entertainment Centre\, 105 William Street\, Bathurst\, New South Wales\, 2795\, Australia
CATEGORIES:Concert or Performance
ATTACH;FMTTYPE=image/jpeg:https://www.bathurstregion.com.au/wp-content/uploads/2026/02/BMEC-CATCH-landscape-background-image.jpg
END:VEVENT
END:VCALENDAR