
BEGIN:VCALENDAR
VERSION:2.0
PRODID:-//Bathurst Region Tourism - ECPv6.15.16//NONSGML v1.0//EN
CALSCALE:GREGORIAN
METHOD:PUBLISH
X-ORIGINAL-URL:https://www.bathurstregion.com.au
X-WR-CALDESC:Events for Bathurst Region Tourism
REFRESH-INTERVAL;VALUE=DURATION:PT1H
X-Robots-Tag:noindex
X-PUBLISHED-TTL:PT1H
BEGIN:VTIMEZONE
TZID:Australia/Sydney
BEGIN:STANDARD
TZOFFSETFROM:+1100
TZOFFSETTO:+1000
TZNAME:AEST
DTSTART:20240406T160000
END:STANDARD
BEGIN:DAYLIGHT
TZOFFSETFROM:+1000
TZOFFSETTO:+1100
TZNAME:AEDT
DTSTART:20241005T160000
END:DAYLIGHT
BEGIN:STANDARD
TZOFFSETFROM:+1100
TZOFFSETTO:+1000
TZNAME:AEST
DTSTART:20250405T160000
END:STANDARD
BEGIN:DAYLIGHT
TZOFFSETFROM:+1000
TZOFFSETTO:+1100
TZNAME:AEDT
DTSTART:20251004T160000
END:DAYLIGHT
BEGIN:STANDARD
TZOFFSETFROM:+1100
TZOFFSETTO:+1000
TZNAME:AEST
DTSTART:20260404T160000
END:STANDARD
BEGIN:DAYLIGHT
TZOFFSETFROM:+1000
TZOFFSETTO:+1100
TZNAME:AEDT
DTSTART:20261003T160000
END:DAYLIGHT
BEGIN:STANDARD
TZOFFSETFROM:+1100
TZOFFSETTO:+1000
TZNAME:AEST
DTSTART:20270403T160000
END:STANDARD
BEGIN:DAYLIGHT
TZOFFSETFROM:+1000
TZOFFSETTO:+1100
TZNAME:AEDT
DTSTART:20271002T160000
END:DAYLIGHT
END:VTIMEZONE
BEGIN:VEVENT
DTSTART;TZID=Australia/Sydney:20251213T110000
DTEND;TZID=Australia/Sydney:20260322T150000
DTSTAMP:20260426T111951
CREATED:20251218T211454Z
LAST-MODIFIED:20251218T211458Z
UID:10004723-1765623600-1774191600@www.bathurstregion.com.au
SUMMARY:The Colours of Hill End Art Exhibition
DESCRIPTION:The Colours of Hill End Art Exhibition at Hill End Art Gallery.\nThe Hill End Art Gallery is pleased to announce its next exhibition\, featuring the works of Jeannie Holmes and Sharon Shelton. These two exceptional and diverse local artists will be showcasing their talent by highlighting the vibrant colours of Hill End.\nExhibition Details\n• Artists: Jeannie Holmes and Sharon Shelton\n• Theme: The Colours of Hill End\n• Opening: 11:00 AM\, Saturday 13 December 2025\n• Exhibition runs to 22nd March 2026\nJoin us for this exciting event celebrating local artistry and the unique palette of Hill End.\nThe Hill End Art Gallery is open 11.00am – 3.00pm weekends.\nSpecial Christmas opening times: Friday\, 19th December through to Monday\, 22nd December. 11am – 3pm\nClosed for Christmas/New Year break\, check Hill End Art Gallery facebook page for opening times.\n\nWhile you are here\, be sure to browse our selection of gifts. There are plenty of fantastic options available\, perfect for sharing with family and friends.
URL:https://www.bathurstregion.com.au/event/the-colours-of-hill-end-art-exhibition/
LOCATION:Hill End Art Gallery\, 5 Beyers Avenue\, Hill End\, 2850\, Australia
CATEGORIES:Art,History and Heritage
ATTACH;FMTTYPE=image/jpeg:https://www.bathurstregion.com.au/wp-content/uploads/2025/12/POSTERS.jpg
ORGANIZER;CN="Hill End Arts Council":MAILTO:hillendartscouncil@gmail.com
END:VEVENT
BEGIN:VEVENT
DTSTART;TZID=Australia/Sydney:20260112T090000
DTEND;TZID=Australia/Sydney:20260115T120000
DTSTAMP:20260426T111951
CREATED:20251118T015713Z
LAST-MODIFIED:20251118T015905Z
UID:10004692-1768208400-1768478400@www.bathurstregion.com.au
SUMMARY:Summerfest 2026
DESCRIPTION:You’re invited to a FREE week-long program full of music\, drama\, craft and fun activities for children in preschool\, primary school and high school. We also offer a free bus service to help get you there. \n\n\n\nJanuary 12-16th. 9am-12pm. Bathurst Showground. \n\n\n\nSummerfest is a combined churches event. This year our theme is ‘God’s Rescue Mission.’ \n\n\n\nTo register or find out more go to: summerfest.fun
URL:https://www.bathurstregion.com.au/event/summerfest-2026/
LOCATION:Bathurst Showground\, Lot 1 Kendall Avenue\, Bathurst\, NSW\, 2795\, Australia
CATEGORIES:Community Event,School Holiday Activity
ATTACH;FMTTYPE=image/png:https://www.bathurstregion.com.au/wp-content/uploads/2025/11/image-16.png
ORGANIZER;CN="Summerfest Bathurst":MAILTO:ed@bathurst.church
END:VEVENT
BEGIN:VEVENT
DTSTART;TZID=Australia/Sydney:20260112T100000
DTEND;TZID=Australia/Sydney:20260121T120000
DTSTAMP:20260426T111951
CREATED:20251205T022327Z
LAST-MODIFIED:20251205T022333Z
UID:10004699-1768212000-1768996800@www.bathurstregion.com.au
SUMMARY:January School Holiday Program
DESCRIPTION:Bathurst Library January 2026 Holiday Program for KIDS is OUT NOW !!!\nWe have 4 x super fun activities these holidays for primary school ages.\n\n*Monday 12 Jan\, 10-11am – TOON WORLD: ‘Toontastic’ cartooning workshop\n*Monday 12 Jan\, 11:30am-1pm – TOON WORLD: ‘Creaturetoons’ clay model making workshop\n\n*Wednesday 14 Jan\, 10:30am-12noon – FIONA HOWLE: Bug & Bee Books\n\n*Wednesday 21 Jan\, 10:30am12noon – FIONA HOWLE: ‘Dinosaur Thesaurus’ word games\n\nBookings are now available on our Humanitix site.\nBook in early to avoid disappointment. Enquiries📲 6333 6281\n➡ BOOKINGS HERE https://events.humanitix.com/host/bathurst-library
URL:https://www.bathurstregion.com.au/event/january-school-holiday-program/
LOCATION:Bathurst Library\, 70 -78 Keppel Street\, Bathurst\, New South Wales\, 2795\, Australia
CATEGORIES:School Holiday Activity
ATTACH;FMTTYPE=image/png:https://www.bathurstregion.com.au/wp-content/uploads/2025/12/BVIC-Jan-26-SHP.png
ORGANIZER;CN="Bathurst Library":MAILTO:library@bathurst.nsw.gov.au
END:VEVENT
BEGIN:VEVENT
DTSTART;TZID=Australia/Sydney:20260114T123000
DTEND;TZID=Australia/Sydney:20260114T134500
DTSTAMP:20260426T111951
CREATED:20250902T055353Z
LAST-MODIFIED:20250902T055353Z
UID:10004393-1768393800-1768398300@www.bathurstregion.com.au
SUMMARY:Blayney Public School Presents Childhood Favourites
DESCRIPTION:Blayney Public School students present their performance\n“Childhood Favourites“. \nEach class from K-6 will perform a musical number from a favourite childhood movie. \nWe look forward to seeing you at BMEC! \nThe audience can purchase tickets to attend the dress rehearsal at 10:15am\, or the performance at 12:30pm.
URL:https://www.bathurstregion.com.au/event/blayney-public-school-presents-childhood-favourites/2026-01-14/
LOCATION:Bathurst Memorial Entertainment Centre\, 105 William Street\, Bathurst\, New South Wales\, 2795\, Australia
CATEGORIES:Concert or Performance
ATTACH;FMTTYPE=image/png:https://www.bathurstregion.com.au/wp-content/uploads/2025/09/BHSCrest_PNG-red-Blayney.png
ORGANIZER;CN="Bathurst Memorial Entertainment Centre":MAILTO:bmec@bathurst.nsw.gov.au
END:VEVENT
END:VCALENDAR