
BEGIN:VCALENDAR
VERSION:2.0
PRODID:-//Bathurst Region Tourism - ECPv6.15.16//NONSGML v1.0//EN
CALSCALE:GREGORIAN
METHOD:PUBLISH
X-ORIGINAL-URL:https://www.bathurstregion.com.au
X-WR-CALDESC:Events for Bathurst Region Tourism
REFRESH-INTERVAL;VALUE=DURATION:PT1H
X-Robots-Tag:noindex
X-PUBLISHED-TTL:PT1H
BEGIN:VTIMEZONE
TZID:Australia/Sydney
BEGIN:STANDARD
TZOFFSETFROM:+1100
TZOFFSETTO:+1000
TZNAME:AEST
DTSTART:20240406T160000
END:STANDARD
BEGIN:DAYLIGHT
TZOFFSETFROM:+1000
TZOFFSETTO:+1100
TZNAME:AEDT
DTSTART:20241005T160000
END:DAYLIGHT
BEGIN:STANDARD
TZOFFSETFROM:+1100
TZOFFSETTO:+1000
TZNAME:AEST
DTSTART:20250405T160000
END:STANDARD
BEGIN:DAYLIGHT
TZOFFSETFROM:+1000
TZOFFSETTO:+1100
TZNAME:AEDT
DTSTART:20251004T160000
END:DAYLIGHT
BEGIN:STANDARD
TZOFFSETFROM:+1100
TZOFFSETTO:+1000
TZNAME:AEST
DTSTART:20260404T160000
END:STANDARD
BEGIN:DAYLIGHT
TZOFFSETFROM:+1000
TZOFFSETTO:+1100
TZNAME:AEDT
DTSTART:20261003T160000
END:DAYLIGHT
BEGIN:STANDARD
TZOFFSETFROM:+1100
TZOFFSETTO:+1000
TZNAME:AEST
DTSTART:20270403T160000
END:STANDARD
BEGIN:DAYLIGHT
TZOFFSETFROM:+1000
TZOFFSETTO:+1100
TZNAME:AEDT
DTSTART:20271002T160000
END:DAYLIGHT
END:VTIMEZONE
BEGIN:VEVENT
DTSTART;TZID=Australia/Sydney:20251213T110000
DTEND;TZID=Australia/Sydney:20260322T150000
DTSTAMP:20260426T131804
CREATED:20251218T211454Z
LAST-MODIFIED:20251218T211458Z
UID:10004723-1765623600-1774191600@www.bathurstregion.com.au
SUMMARY:The Colours of Hill End Art Exhibition
DESCRIPTION:The Colours of Hill End Art Exhibition at Hill End Art Gallery.\nThe Hill End Art Gallery is pleased to announce its next exhibition\, featuring the works of Jeannie Holmes and Sharon Shelton. These two exceptional and diverse local artists will be showcasing their talent by highlighting the vibrant colours of Hill End.\nExhibition Details\n• Artists: Jeannie Holmes and Sharon Shelton\n• Theme: The Colours of Hill End\n• Opening: 11:00 AM\, Saturday 13 December 2025\n• Exhibition runs to 22nd March 2026\nJoin us for this exciting event celebrating local artistry and the unique palette of Hill End.\nThe Hill End Art Gallery is open 11.00am – 3.00pm weekends.\nSpecial Christmas opening times: Friday\, 19th December through to Monday\, 22nd December. 11am – 3pm\nClosed for Christmas/New Year break\, check Hill End Art Gallery facebook page for opening times.\n\nWhile you are here\, be sure to browse our selection of gifts. There are plenty of fantastic options available\, perfect for sharing with family and friends.
URL:https://www.bathurstregion.com.au/event/the-colours-of-hill-end-art-exhibition/
LOCATION:Hill End Art Gallery\, 5 Beyers Avenue\, Hill End\, 2850\, Australia
CATEGORIES:Art,History and Heritage
ATTACH;FMTTYPE=image/jpeg:https://www.bathurstregion.com.au/wp-content/uploads/2025/12/POSTERS.jpg
ORGANIZER;CN="Hill End Arts Council":MAILTO:hillendartscouncil@gmail.com
END:VEVENT
BEGIN:VEVENT
DTSTART;TZID=Australia/Sydney:20251226T123000
DTEND;TZID=Australia/Sydney:20251226T134500
DTSTAMP:20260426T131804
CREATED:20250902T055353Z
LAST-MODIFIED:20250902T055353Z
UID:10004374-1766752200-1766756700@www.bathurstregion.com.au
SUMMARY:Blayney Public School Presents Childhood Favourites
DESCRIPTION:Blayney Public School students present their performance\n“Childhood Favourites“. \nEach class from K-6 will perform a musical number from a favourite childhood movie. \nWe look forward to seeing you at BMEC! \nThe audience can purchase tickets to attend the dress rehearsal at 10:15am\, or the performance at 12:30pm.
URL:https://www.bathurstregion.com.au/event/blayney-public-school-presents-childhood-favourites/2025-12-26/
LOCATION:Bathurst Memorial Entertainment Centre\, 105 William Street\, Bathurst\, New South Wales\, 2795\, Australia
CATEGORIES:Concert or Performance
ATTACH;FMTTYPE=image/png:https://www.bathurstregion.com.au/wp-content/uploads/2025/09/BHSCrest_PNG-red-Blayney.png
ORGANIZER;CN="Bathurst Memorial Entertainment Centre":MAILTO:bmec@bathurst.nsw.gov.au
END:VEVENT
BEGIN:VEVENT
DTSTART;TZID=Australia/Sydney:20251226T160000
DTEND;TZID=Australia/Sydney:20251226T170000
DTSTAMP:20260426T131804
CREATED:20240103T004839Z
LAST-MODIFIED:20260114T021027Z
UID:10003687-1766764800-1766768400@www.bathurstregion.com.au
SUMMARY:Bathurst Grange Distillery Tour & Tasting
DESCRIPTION:Friday Tour Time: 4pm \n\n\n\nSaturday Tour Times: 11am\, 2pm\, 3pm & 4pm \n\n\n\nBook tours here http://bit.ly/4o2mTBx \n\n\n\nJoin a tour at the Bathurst Grange Distillery and see surrounding gardens and farmland on the heritage property\, The Grange\, established in 1823. \n\n\n\nShare the passion for distilling Whisky and Gin as they explain the techniques and craft of making the premium spirits. \n\n\n\n​Learn the art of distillation. \n\n\n\n\nTaste premium small batch spirits\n\n\n\nSee farmland & friendly animals\n\n\n\nDiscover the history of the region\n\n\n\n\nCost : $20 per person \n\n\n\n\n\nBathurst Grange Distillery \n\n\n\nBathurst Grange Distillery\, 3249 O’Connell Rd\, Bathurst02 7228 79130413 632 643www.bathurstgrange.com.au
URL:https://www.bathurstregion.com.au/event/bathurst-grange-distillery-tour-tasting-2-2024-01-13/2025-12-26/
LOCATION:Bathurst Grange Distillery\, Bathurst Grange Distillery\, 3249 O'Connell Rd\, Bathurst\, Bathurst\, 2795\, Australia
CATEGORIES:Classes, Lessons, Workshops and Talks,History and Heritage,Markets,Tours
ATTACH;FMTTYPE=image/jpeg:https://www.bathurstregion.com.au/wp-content/uploads/2024/01/Untitled-1-Recovered.jpg
END:VEVENT
BEGIN:VEVENT
DTSTART;TZID=Australia/Sydney:20251226T170000
DTEND;TZID=Australia/Sydney:20251226T220000
DTSTAMP:20260426T131804
CREATED:20251124T013313Z
LAST-MODIFIED:20251124T013315Z
UID:10004245-1766768400-1766786400@www.bathurstregion.com.au
SUMMARY:Shirley Turnbull Memorial Night
DESCRIPTION:Join us for one of the most anticipated nights on the harness racing calendar! The Shirley Turnbull Memorial Night returns this Boxing Day\, bringing Christmas spirit\, great racing\, and family fun for all ages! \nEvent Details:– When: 5pm – till late\, Friday 26th of December– Where: Bathurst Harness Racing Club \nBring the family along to enjoy a huge night of entertainment\, including:– Kids’ Activities: Jumping castle\, face painting\, ice-cream van and a visit from Santa– Bar\, Bistro and Coffee: Our full bistro and bar will be open all night\, serving delicious meals and ice-cold tap beer. Coffee is also on offer for the Swirl and Dip’s Ice cream and Coffee Van– Full Race Card: Settle in for an action-packed evening of harness racing \nWhether you’re here for the racing\, the food\, or a fun family night out\, the Shirley Turnbull Memorial is a fantastic choice to end your Boxing Day
URL:https://www.bathurstregion.com.au/event/shirley-turnbull-memorial-night/
LOCATION:Bathurst Harness Racing Club\, 169 College Road\, Bathurst\, NSW\, 2795\, Australia
CATEGORIES:Sporting Events
ATTACH;FMTTYPE=image/png:https://www.bathurstregion.com.au/wp-content/uploads/2025/11/Bathurst-Tourism-Boxing-Night.png
END:VEVENT
END:VCALENDAR