
BEGIN:VCALENDAR
VERSION:2.0
PRODID:-//Bathurst Region Tourism - ECPv6.15.16//NONSGML v1.0//EN
CALSCALE:GREGORIAN
METHOD:PUBLISH
X-WR-CALNAME:Bathurst Region Tourism
X-ORIGINAL-URL:https://www.bathurstregion.com.au
X-WR-CALDESC:Events for Bathurst Region Tourism
REFRESH-INTERVAL;VALUE=DURATION:PT1H
X-Robots-Tag:noindex
X-PUBLISHED-TTL:PT1H
BEGIN:VTIMEZONE
TZID:Australia/Sydney
BEGIN:STANDARD
TZOFFSETFROM:+1100
TZOFFSETTO:+1000
TZNAME:AEST
DTSTART:20240406T160000
END:STANDARD
BEGIN:DAYLIGHT
TZOFFSETFROM:+1000
TZOFFSETTO:+1100
TZNAME:AEDT
DTSTART:20241005T160000
END:DAYLIGHT
BEGIN:STANDARD
TZOFFSETFROM:+1100
TZOFFSETTO:+1000
TZNAME:AEST
DTSTART:20250405T160000
END:STANDARD
BEGIN:DAYLIGHT
TZOFFSETFROM:+1000
TZOFFSETTO:+1100
TZNAME:AEDT
DTSTART:20251004T160000
END:DAYLIGHT
BEGIN:STANDARD
TZOFFSETFROM:+1100
TZOFFSETTO:+1000
TZNAME:AEST
DTSTART:20260404T160000
END:STANDARD
BEGIN:DAYLIGHT
TZOFFSETFROM:+1000
TZOFFSETTO:+1100
TZNAME:AEDT
DTSTART:20261003T160000
END:DAYLIGHT
END:VTIMEZONE
BEGIN:VEVENT
DTSTART;TZID=Australia/Sydney:20250927T110000
DTEND;TZID=Australia/Sydney:20251108T120000
DTSTAMP:20260426T041732
CREATED:20250811T020134Z
LAST-MODIFIED:20250811T020134Z
UID:10003993-1758970800-1762603200@www.bathurstregion.com.au
SUMMARY:Exhibition Tours
DESCRIPTION:Join us at the gallery each Saturday during our current exhibitions\, for a free guided tour!  \nSaturdays\, 11am\nFREE\, all welcome\, RSVP online or at BRAG reception \nOur current suite of exhibitions includes: \nA Tear in the Fabric presents new and existing works from nine Asian and Asian Australian artists who embrace distortion as a mode of disruption. In partnership with 4A Centre for Contemporary Asian Art\, the exhibition revolves around notions of aesthetic\, material and conceptual interventions integrated into established forms of creative practice. Picking at the seams to make space for new narratives and artistic approaches\, we see exploratory excursions into concepts of place\, materiality\, memory\, identity and perception\, manifesting in a diverse range of mediums. \nTea Ceremony in the Celestial Garden\, is reminiscent of the famous Japanese food display ‘shokuhin sampuru’ or French pastries display in Paris\, the cakes are mouth-watering\, but not for consumption. The construction of the cakes in ceramics is labour-intensive\, down to each sprinkle of hundreds and thousands. Their imaginary forms conjure a colourful\, dream-like world. This project was created during a 2025 artist residency at the PumpHouse Albury. \nLandscapes of Imagination: From the Collection\, bringing together works from the Bathurst Regional Art Gallery Collection that reflect the enduring artistic allure of Hill End. This historic village has captured the imaginations of artists drawn to its layered histories\, dramatic terrain\, and evocative sense of place. \nImage: Jayanto Tan\, Berries Cream Tarts\, 2025\, ceramic\, 9 x 26 x 26 x 26 cm. Courtesy the artist.
URL:https://www.bathurstregion.com.au/event/exhibition-tours-3/2025-09-27/
LOCATION:Bathurst Regional Art Gallery\, 70-78 Keppel Street\, Bathurst\, 2795
CATEGORIES:Art,Tours
ATTACH;FMTTYPE=image/jpeg:https://www.bathurstregion.com.au/wp-content/uploads/2025/08/Jayanto-Tan-2-scaled.jpg
ORGANIZER;CN="Bathurst Regional Art Gallery":MAILTO:brag@bathurst.nsw.gov.au
END:VEVENT
BEGIN:VEVENT
DTSTART;TZID=Australia/Sydney:20251004T110000
DTEND;TZID=Australia/Sydney:20251115T120000
DTSTAMP:20260426T041732
CREATED:20250811T020134Z
LAST-MODIFIED:20250811T020134Z
UID:10003994-1759575600-1763208000@www.bathurstregion.com.au
SUMMARY:Exhibition Tours
DESCRIPTION:Join us at the gallery each Saturday during our current exhibitions\, for a free guided tour!  \nSaturdays\, 11am\nFREE\, all welcome\, RSVP online or at BRAG reception \nOur current suite of exhibitions includes: \nA Tear in the Fabric presents new and existing works from nine Asian and Asian Australian artists who embrace distortion as a mode of disruption. In partnership with 4A Centre for Contemporary Asian Art\, the exhibition revolves around notions of aesthetic\, material and conceptual interventions integrated into established forms of creative practice. Picking at the seams to make space for new narratives and artistic approaches\, we see exploratory excursions into concepts of place\, materiality\, memory\, identity and perception\, manifesting in a diverse range of mediums. \nTea Ceremony in the Celestial Garden\, is reminiscent of the famous Japanese food display ‘shokuhin sampuru’ or French pastries display in Paris\, the cakes are mouth-watering\, but not for consumption. The construction of the cakes in ceramics is labour-intensive\, down to each sprinkle of hundreds and thousands. Their imaginary forms conjure a colourful\, dream-like world. This project was created during a 2025 artist residency at the PumpHouse Albury. \nLandscapes of Imagination: From the Collection\, bringing together works from the Bathurst Regional Art Gallery Collection that reflect the enduring artistic allure of Hill End. This historic village has captured the imaginations of artists drawn to its layered histories\, dramatic terrain\, and evocative sense of place. \nImage: Jayanto Tan\, Berries Cream Tarts\, 2025\, ceramic\, 9 x 26 x 26 x 26 cm. Courtesy the artist.
URL:https://www.bathurstregion.com.au/event/exhibition-tours-3/2025-10-04/
LOCATION:Bathurst Regional Art Gallery\, 70-78 Keppel Street\, Bathurst\, 2795
CATEGORIES:Art,Tours
ATTACH;FMTTYPE=image/jpeg:https://www.bathurstregion.com.au/wp-content/uploads/2025/08/Jayanto-Tan-2-scaled.jpg
ORGANIZER;CN="Bathurst Regional Art Gallery":MAILTO:brag@bathurst.nsw.gov.au
END:VEVENT
BEGIN:VEVENT
DTSTART;TZID=Australia/Sydney:20251008T103000
DTEND;TZID=Australia/Sydney:20251008T120000
DTSTAMP:20260426T041732
CREATED:20250811T020029Z
LAST-MODIFIED:20250811T020032Z
UID:10004564-1759919400-1759924800@www.bathurstregion.com.au
SUMMARY:Talks & Tea
DESCRIPTION:Join Bathurst Regional Art Gallery (BRAG) Volunteer Guides for a spotlight talk and walk through of our current exhibitions!\n\nWednesday 8 October\, 10:30am-12:00pm\nTour of exhibition\nMorning tea by donation\, RSVP essential\n\nOur current suite of exhibitions includes:\nA Tear in the Fabric presents new and existing works from nine Asian and Asian Australian artists who embrace distortion as a mode of disruption. In partnership with 4A Centre for Contemporary Asian Art\, the exhibition revolves around notions of aesthetic\, material and conceptual interventions integrated into established forms of creative practice. Picking at the seams to make space for new narratives and artistic approaches\, we see exploratory excursions into concepts of place\, materiality\, memory\, identity and perception\, manifesting in a diverse range of mediums.\n\n\nTea Ceremony in the Celestial Garden\, is reminiscent of the famous Japanese food display ‘shokuhin sampuru’ or French pastries display in Paris\, the cakes are mouth-watering\, but not for consumption. The construction of the cakes in ceramics is labour-intensive\, down to each sprinkle of hundreds and thousands. Their imaginary forms conjure a colourful\, dream-like world. This project was created during a 2025 artist residency at the PumpHouse Albury.\n\nLandscapes of Imagination: From the Collection\, bringing together works from the Bathurst Regional Art Gallery Collection that reflect the enduring artistic allure of Hill End. This historic village has captured the imaginations of artists drawn to its layered histories\, dramatic terrain\, and evocative sense of place.\n\n\nImage: Jayanto Tan\, Berries Cream Tarts\, 2025\, ceramic\, 9 x 26 x 26 x 26 cm. Courtesy the artist.
URL:https://www.bathurstregion.com.au/event/talks-tea/
LOCATION:Bathurst Regional Art Gallery\, 70-78 Keppel Street\, Bathurst\, 2795
CATEGORIES:Art
ATTACH;FMTTYPE=image/jpeg:https://www.bathurstregion.com.au/wp-content/uploads/2025/08/Jayanto-Tan-2-1-scaled.jpg
ORGANIZER;CN="Bathurst Regional Art Gallery":MAILTO:brag@bathurst.nsw.gov.au
END:VEVENT
BEGIN:VEVENT
DTSTART;TZID=Australia/Sydney:20251008T123000
DTEND;TZID=Australia/Sydney:20251008T134500
DTSTAMP:20260426T041732
CREATED:20250902T055353Z
LAST-MODIFIED:20250902T055353Z
UID:10004295-1759926600-1759931100@www.bathurstregion.com.au
SUMMARY:Blayney Public School Presents Childhood Favourites
DESCRIPTION:Blayney Public School students present their performance\n“Childhood Favourites“. \nEach class from K-6 will perform a musical number from a favourite childhood movie. \nWe look forward to seeing you at BMEC! \nThe audience can purchase tickets to attend the dress rehearsal at 10:15am\, or the performance at 12:30pm.
URL:https://www.bathurstregion.com.au/event/blayney-public-school-presents-childhood-favourites/2025-10-08/
LOCATION:Bathurst Memorial Entertainment Centre\, 105 William Street\, Bathurst\, New South Wales\, 2795\, Australia
CATEGORIES:Concert or Performance
ATTACH;FMTTYPE=image/png:https://www.bathurstregion.com.au/wp-content/uploads/2025/09/BHSCrest_PNG-red-Blayney.png
ORGANIZER;CN="Bathurst Memorial Entertainment Centre":MAILTO:bmec@bathurst.nsw.gov.au
END:VEVENT
BEGIN:VEVENT
DTSTART;TZID=Australia/Sydney:20251008T150000
DTEND;TZID=Australia/Sydney:20251008T200000
DTSTAMP:20260426T041732
CREATED:20250813T023658Z
LAST-MODIFIED:20250813T023704Z
UID:10004569-1759935600-1759953600@www.bathurstregion.com.au
SUMMARY:Repco Bathurst 1000 Off-Track Events -  Wednesday Street Party
DESCRIPTION:The Repco Bathurst 1000 Street Party is back! \n\n\n\n\n\n\n\nOn Wednesday\, things really shift into gear with the Street Party\, headlined by the Supercars Track to Town convoy\, an all-driver signing session\, and heaps more\, all broadcast live on Fox Sports and Kayo. \n\n\n\nStay tuned for more details coming soon! 
URL:https://www.bathurstregion.com.au/event/repco-bathurst-1000-off-track-events-wednesday-street-party/
LOCATION:Russell Street (between William &amp; George Street)
CATEGORIES:Community Event,Festivals and Celebrations,Sporting Events
ATTACH;FMTTYPE=image/png:https://www.bathurstregion.com.au/wp-content/uploads/2025/08/image-1.png
END:VEVENT
BEGIN:VEVENT
DTSTART;TZID=Australia/Sydney:20251008T150000
DTEND;TZID=Australia/Sydney:20251008T220000
DTSTAMP:20260426T041732
CREATED:20250923T032256Z
LAST-MODIFIED:20250923T032306Z
UID:10004589-1759935600-1759960800@www.bathurstregion.com.au
SUMMARY:Repco Bathurst 1000 Street Party
DESCRIPTION:The Repco Bathurst 1000 Street Party is back this Race Week! \n\n\n\nFans can catch all 27 Supercars as they make their way from the mountain to Russell Street in a Track to Town. The field of Supercars will be lead by the prime movers from the Supercars team transporters and will park up in Russell Street followed by a drivers signing session. \n\n\n\nFans can also watch the Finals of the Pirtek Pit Stop Challenge\, grab some merch and get involved in the live TV show broadcast on Foxtel from 5:30pm. \n\n\n\nKey times:3pm – 8pm | Russell Street precinct open5.30pm – 7pm | Live TV show broadcast on Foxtel featuring Track to Town and Pirtek Pit Stop Challenge finals5.45pm | Track to Town arrives at Russell Street – all 27 Supercars lead by the teams’ prime movers6pm – 6.50pm | Drivers signing session7pm | Supercars return to Mount Panorama \n\n\n\nFor more info visit www.bathurst.nsw.gov.au/Events/Bathurst-1000 
URL:https://www.bathurstregion.com.au/event/repco-bathurst-1000-street-party/
LOCATION:Kings Parade\, bounded by William\, George\, Church and Russell Streets
CATEGORIES:Community Event,Festivals and Celebrations,Sporting Events
ATTACH;FMTTYPE=image/jpeg:https://www.bathurstregion.com.au/wp-content/uploads/2025/09/548280838_1202921118545542_5650552105408811905_n.jpg
ORGANIZER;CN="Bathurst Regional Council Events":MAILTO:events@bathurst.nsw.gov.au
END:VEVENT
BEGIN:VEVENT
DTSTART;TZID=Australia/Sydney:20251008T190000
DTEND;TZID=Australia/Sydney:20251008T210000
DTSTAMP:20260426T041732
CREATED:20240626T230810Z
LAST-MODIFIED:20250527T033008Z
UID:10003762-1759950000-1759957200@www.bathurstregion.com.au
SUMMARY:Musical Bingo @ The Family Hotel
DESCRIPTION:This one is for the music lovers! Rock into the #FamBams for Musical Trivia every Wednesday from 7pm! Entry is free and you’ll have the chance to win prizes whilst bopping along to tunes over the ages! \nWednesday night is $20 schnitty night!
URL:https://www.bathurstregion.com.au/event/musical-bingo-3/2025-10-08/
LOCATION:Family Hotel\, Cnr Russell & Bentinck Street\, Bathurst\, 2795\, Australia
CATEGORIES:Community Event
ATTACH;FMTTYPE=image/jpeg:https://www.bathurstregion.com.au/wp-content/uploads/2024/06/441867269_10229488857879453_8006742019411922238_n-1.jpg
END:VEVENT
END:VCALENDAR